BEGIN:VCALENDAR
VERSION:2.0
PRODID:-//birecruit.com - ECPv6.15.18//NONSGML v1.0//EN
CALSCALE:GREGORIAN
METHOD:PUBLISH
X-ORIGINAL-URL:https://birecruit.com
X-WR-CALDESC:Events for birecruit.com
REFRESH-INTERVAL;VALUE=DURATION:PT1H
X-Robots-Tag:noindex
X-PUBLISHED-TTL:PT1H
BEGIN:VTIMEZONE
TZID:America/Toronto
BEGIN:DAYLIGHT
TZOFFSETFROM:-0500
TZOFFSETTO:-0400
TZNAME:EDT
DTSTART:20250309T070000
END:DAYLIGHT
BEGIN:STANDARD
TZOFFSETFROM:-0400
TZOFFSETTO:-0500
TZNAME:EST
DTSTART:20251102T060000
END:STANDARD
BEGIN:DAYLIGHT
TZOFFSETFROM:-0500
TZOFFSETTO:-0400
TZNAME:EDT
DTSTART:20260308T070000
END:DAYLIGHT
BEGIN:STANDARD
TZOFFSETFROM:-0400
TZOFFSETTO:-0500
TZNAME:EST
DTSTART:20261101T060000
END:STANDARD
BEGIN:DAYLIGHT
TZOFFSETFROM:-0500
TZOFFSETTO:-0400
TZNAME:EDT
DTSTART:20270314T070000
END:DAYLIGHT
BEGIN:STANDARD
TZOFFSETFROM:-0400
TZOFFSETTO:-0500
TZNAME:EST
DTSTART:20271107T060000
END:STANDARD
END:VTIMEZONE
BEGIN:VEVENT
DTSTART;VALUE=DATE:20260925
DTEND;VALUE=DATE:20260929
DTSTAMP:20260425T073005
CREATED:20260226T164128Z
LAST-MODIFIED:20260226T164128Z
UID:17659-1790294400-1790639999@birecruit.com
SUMMARY:The Canadian Aesthetics Expo
DESCRIPTION:Aesthetic Medicine Innovation\, Education\, Training\, & Business Growth\n\n\nThe Canadian Aesthetics Expo is the medical aesthetics industry’s most valuable and career-changing event\, designed to deliver a unique blend of scientific advancements\, hands-on training\, business growth\, anti-aging & regenerative medicine education\, and much more. \nThis years event will be held September 25-28\, 2025\, at the Metro Toronto Convention Centre (MTCC) in Toronto. This 4-day event is your gateway to a successful aesthetics career and practice\, regardless of your training\, background\, and aesthetics experience.
URL:https://birecruit.com/events-calendar/the-canadian-aesthetics-expo/
LOCATION:Metro Toronto Convention Centre\, 255 Front St W\, Toronto\, Ontario\, M5V 2W6\, Canada
END:VEVENT
END:VCALENDAR